BEGIN:VCALENDAR
VERSION:2.0
PRODID:-//GIO Stadium Canberra - ECPv4.9.8//NONSGML v1.0//EN
CALSCALE:GREGORIAN
METHOD:PUBLISH
X-WR-CALNAME:GIO Stadium Canberra
X-ORIGINAL-URL:https://giostadiumcanberra.com.au
X-WR-CALDESC:Events for GIO Stadium Canberra
BEGIN:VTIMEZONE
TZID:Australia/Sydney
BEGIN:STANDARD
TZOFFSETFROM:+1100
TZOFFSETTO:+1000
TZNAME:AEST
DTSTART:20200404T160000
END:STANDARD
BEGIN:DAYLIGHT
TZOFFSETFROM:+1000
TZOFFSETTO:+1100
TZNAME:AEDT
DTSTART:20201003T160000
END:DAYLIGHT
END:VTIMEZONE
BEGIN:VEVENT
DTSTART;TZID="Australia/Sydney":20200313T163000
DTEND;TZID="Australia/Sydney":20200313T180000
DTSTAMP:20200301T020215
CREATED:20191101T060058Z
LAST-MODIFIED:20200219T055005Z
UID:7404-1584117000-1584122400@giostadiumcanberra.com.au
SUMMARY:NRL 2020 - Raiders V Titans
DESCRIPTION:For the first time since 2016\, the Canberra Raiders will begin a campaign at home when they host the Gold Coast Titans at GIO Stadium. \nRaiders fans will enjoy plenty of football in the opening rounds\, with four home games in five weeks. \n  \n
URL:https://giostadiumcanberra.com.au/gio-stadium-event/nrl-2020-rd-1/
LOCATION:GIO Canberra Stadium\, Battye Street\, Bruce\, ACT\, 2617\, Australia
CATEGORIES:Feature Events,Rugby League,Special Events,Sporting Events
ATTACH;FMTTYPE=image/png:https://giostadiumcanberra.com.au/wp-content/uploads/2017/01/raiders.png
END:VEVENT
BEGIN:VEVENT
DTSTART;TZID="Australia/Sydney":20200315T131500
DTEND;TZID="Australia/Sydney":20200315T160500
DTSTAMP:20200301T020215
CREATED:20190910T045357Z
LAST-MODIFIED:20200109T001737Z
UID:7236-1584278100-1584288300@giostadiumcanberra.com.au
SUMMARY:Super Rugby 2020 - Brumbies v Waratahs
DESCRIPTION:Following on from a successful 2019\, in which the team reached the Semi-Finals of the competition\, scoring 68 tries spread amongst 24 different try scorers across the season\, the most ever\, and racking up 430 points in winning the Australian Conference\, the Brumbies will be out to get the new season off to a winning start. \n\nBrumbies v Waratahs @ 4:05pm\n\nBefore entering the Stadium please view our Conditions of Entry. \n
URL:https://giostadiumcanberra.com.au/gio-stadium-event/super-rugby-2020-waratahs/
LOCATION:GIO Canberra Stadium\, Battye Street\, Bruce\, ACT\, 2617\, Australia
CATEGORIES:Rugby Union,Sporting Events
ATTACH;FMTTYPE=image/png:https://giostadiumcanberra.com.au/wp-content/uploads/2017/01/brumbies.png
END:VEVENT
BEGIN:VEVENT
DTSTART;TZID="Australia/Sydney":20200326T183000
DTEND;TZID="Australia/Sydney":20200326T200500
DTSTAMP:20200301T020215
CREATED:20191101T060436Z
LAST-MODIFIED:20200214T034024Z
UID:7406-1585247400-1585253100@giostadiumcanberra.com.au
SUMMARY:NRL 2020 - Raiders V Dragons
DESCRIPTION:For the first time since 2016\, the Canberra Raiders will begin a campaign at home when they host the Gold Coast Titans at GIO Stadium. \nRaiders fans will enjoy plenty of football in the opening rounds\, with four home games in five weeks. \n
URL:https://giostadiumcanberra.com.au/gio-stadium-event/nrl-2020-rd-3/
LOCATION:GIO Canberra Stadium\, Battye Street\, Bruce\, ACT\, 2617\, Australia
CATEGORIES:Feature Events,Rugby League,Special Events,Sporting Events
ATTACH;FMTTYPE=image/png:https://giostadiumcanberra.com.au/wp-content/uploads/2017/01/raiders.png
END:VEVENT
BEGIN:VEVENT
DTSTART;TZID="Australia/Sydney":20200403T174500
DTEND;TZID="Australia/Sydney":20200403T200500
DTSTAMP:20200301T020215
CREATED:20191101T060738Z
LAST-MODIFIED:20200214T035009Z
UID:7409-1585935900-1585944300@giostadiumcanberra.com.au
SUMMARY:NRL 2020 - Raiders V Sea Eagles
DESCRIPTION:For the first time since 2016\, the Canberra Raiders will begin a campaign at home when they host the Gold Coast Titans at GIO Stadium. \nRaiders fans will enjoy plenty of football in the opening rounds\, with four home games in five weeks. \n  \n
URL:https://giostadiumcanberra.com.au/gio-stadium-event/nrl-2020-rd-4/
LOCATION:GIO Canberra Stadium\, Battye Street\, Bruce\, ACT\, 2617\, Australia
CATEGORIES:Feature Events,Rugby League,Special Events,Sporting Events
ATTACH;FMTTYPE=image/png:https://giostadiumcanberra.com.au/wp-content/uploads/2017/01/raiders.png
END:VEVENT
BEGIN:VEVENT
DTSTART;TZID="Australia/Sydney":20200404T164500
DTEND;TZID="Australia/Sydney":20200404T191500
DTSTAMP:20200301T020215
CREATED:20190910T045626Z
LAST-MODIFIED:20200109T001848Z
UID:7238-1586018700-1586027700@giostadiumcanberra.com.au
SUMMARY:Super Rugby 2020 - Brumbies v Hurricanes
DESCRIPTION:Following on from a successful 2019\, in which the team reached the Semi-Finals of the competition\, scoring 68 tries spread amongst 24 different try scorers across the season\, the most ever\, and racking up 430 points in winning the Australian Conference\, the Brumbies will be out to get the new season off to a winning start. \n\nBrumbies v Hurricanes @ 7:15pm\n\nBefore entering the Stadium please view our Conditions of Entry. \n
URL:https://giostadiumcanberra.com.au/gio-stadium-event/super-rugby-2020-hurricanes/
LOCATION:GIO Canberra Stadium\, Battye Street\, Bruce\, ACT\, 2617\, Australia
CATEGORIES:Rugby Union,Sporting Events
ATTACH;FMTTYPE=image/png:https://giostadiumcanberra.com.au/wp-content/uploads/2017/01/brumbies.png
END:VEVENT
BEGIN:VEVENT
DTSTART;TZID="Australia/Sydney":20200412T133000
DTEND;TZID="Australia/Sydney":20200412T160500
DTSTAMP:20200301T020215
CREATED:20190910T045754Z
LAST-MODIFIED:20200109T002004Z
UID:7240-1586698200-1586707500@giostadiumcanberra.com.au
SUMMARY:Super Rugby 2020 - Brumbies v Jaguares
DESCRIPTION:Following on from a successful 2019\, in which the team reached the Semi-Finals of the competition\, scoring 68 tries spread amongst 24 different try scorers across the season\, the most ever\, and racking up 430 points in winning the Australian Conference\, the Brumbies will be out to get the new season off to a winning start. \n\nBrumbies v Jaguares @ 4:05pm\n\nBefore entering the Stadium please view our Conditions of Entry. \n
URL:https://giostadiumcanberra.com.au/gio-stadium-event/super-rugby-2020-jaguares/
LOCATION:GIO Canberra Stadium\, Battye Street\, Bruce\, ACT\, 2617\, Australia
CATEGORIES:Rugby Union,Sporting Events
ATTACH;FMTTYPE=image/png:https://giostadiumcanberra.com.au/wp-content/uploads/2017/01/brumbies.png
END:VEVENT
BEGIN:VEVENT
DTSTART;TZID="Australia/Sydney":20200426T113000
DTEND;TZID="Australia/Sydney":20200426T140500
DTSTAMP:20200301T020215
CREATED:20191101T061028Z
LAST-MODIFIED:20200214T035420Z
UID:7412-1587900600-1587909900@giostadiumcanberra.com.au
SUMMARY:NRL 2020 - Raiders V Rabbitohs
DESCRIPTION:For the first time since 2016\, the Canberra Raiders will begin a campaign at home when they host the Gold Coast Titans at GIO Stadium. \nRaiders fans will enjoy plenty of football in the opening rounds\, with four home games in five weeks. \n  \n
URL:https://giostadiumcanberra.com.au/gio-stadium-event/nrl-2020-rd-7/
LOCATION:GIO Canberra Stadium\, Battye Street\, Bruce\, ACT\, 2617\, Australia
CATEGORIES:Feature Events,Rugby League,Special Events,Sporting Events
ATTACH;FMTTYPE=image/png:https://giostadiumcanberra.com.au/wp-content/uploads/2017/01/raiders.png
END:VEVENT
BEGIN:VEVENT
DTSTART;TZID="Australia/Sydney":20200509T171500
DTEND;TZID="Australia/Sydney":20200509T191500
DTSTAMP:20200301T020215
CREATED:20190910T050051Z
LAST-MODIFIED:20200204T012916Z
UID:7244-1589044500-1589051700@giostadiumcanberra.com.au
SUMMARY:Super Rugby 2020 - Brumbies v Stormers @ Manuka Oval
DESCRIPTION:Following on from a successful 2019\, in which the team reached the Semi-Finals of the competition\, scoring 68 tries spread amongst 24 different try scorers across the season\, the most ever\, and racking up 430 points in winning the Australian Conference\, the Brumbies will be out to get the new season off to a winning start. \n\nBrumbies v Stormers @ 7:15pm\n\nBefore entering Manuka Oval please view our Conditions of Entry. \n
URL:https://giostadiumcanberra.com.au/gio-stadium-event/super-rugby-2020-stormers/
LOCATION:Manuka Oval\, Manuka Circle\, Griffith\, ACT\, 2603\, Australia
CATEGORIES:Rugby Union,Sporting Events
ATTACH;FMTTYPE=image/png:https://giostadiumcanberra.com.au/wp-content/uploads/2017/01/brumbies.png
END:VEVENT
BEGIN:VEVENT
DTSTART;TZID="Australia/Sydney":20200517T115000
DTEND;TZID="Australia/Sydney":20200517T140500
DTSTAMP:20200301T020215
CREATED:20191101T061310Z
LAST-MODIFIED:20200227T063148Z
UID:7415-1589716200-1589724300@giostadiumcanberra.com.au
SUMMARY:NRL 2020 - Raiders V Panthers
DESCRIPTION:For the first time since 2016\, the Canberra Raiders will begin a campaign at home when they host the Gold Coast Titans at GIO Stadium. \nRaiders fans will enjoy plenty of football in the opening rounds\, with four home games in five weeks. \n
URL:https://giostadiumcanberra.com.au/gio-stadium-event/nrl-2020-rd-10/
LOCATION:GIO Canberra Stadium\, Battye Street\, Bruce\, ACT\, 2617\, Australia
CATEGORIES:Feature Events,Rugby League,Special Events,Sporting Events
ATTACH;FMTTYPE=image/png:https://giostadiumcanberra.com.au/wp-content/uploads/2017/01/raiders.png
END:VEVENT
BEGIN:VEVENT
DTSTART;TZID="Australia/Sydney":20200529T154500
DTEND;TZID="Australia/Sydney":20200529T191500
DTSTAMP:20200301T020215
CREATED:20190910T050500Z
LAST-MODIFIED:20200109T002258Z
UID:7247-1590767100-1590779700@giostadiumcanberra.com.au
SUMMARY:Super Rugby 2020 - Brumbies v Sunwolves
DESCRIPTION:Following on from a successful 2019\, in which the team reached the Semi-Finals of the competition\, scoring 68 tries spread amongst 24 different try scorers across the season\, the most ever\, and racking up 430 points in winning the Australian Conference\, the Brumbies will be out to get the new season off to a winning start. \n\nBrumbies v Sunwolves @ 7:15pm\n\nBefore entering the Stadium please view our Conditions of Entry. \n
URL:https://giostadiumcanberra.com.au/gio-stadium-event/super-rugby-2020-sunwolves/
LOCATION:GIO Canberra Stadium\, Battye Street\, Bruce\, ACT\, 2617\, Australia
CATEGORIES:Rugby Union,Sporting Events
ATTACH;FMTTYPE=image/png:https://giostadiumcanberra.com.au/wp-content/uploads/2017/01/brumbies.png
END:VEVENT
BEGIN:VEVENT
DTSTART;TZID="Australia/Sydney":20200614T113000
DTEND;TZID="Australia/Sydney":20200614T140500
DTSTAMP:20200301T020215
CREATED:20191101T061704Z
LAST-MODIFIED:20200214T040056Z
UID:7418-1592134200-1592143500@giostadiumcanberra.com.au
SUMMARY:NRL 2020 - Raiders V Warriors
DESCRIPTION:For the first time since 2016\, the Canberra Raiders will begin a campaign at home when they host the Gold Coast Titans at GIO Stadium. \nRaiders fans will enjoy plenty of football in the opening rounds\, with four home games in five weeks. \n
URL:https://giostadiumcanberra.com.au/gio-stadium-event/nrl-2020-rd-14/
LOCATION:GIO Canberra Stadium\, Battye Street\, Bruce\, ACT\, 2617\, Australia
CATEGORIES:Feature Events,Rugby League,Special Events,Sporting Events
ATTACH;FMTTYPE=image/png:https://giostadiumcanberra.com.au/wp-content/uploads/2017/01/raiders.png
END:VEVENT
BEGIN:VEVENT
DTSTART;TZID="Australia/Sydney":20200628T113000
DTEND;TZID="Australia/Sydney":20200628T160500
DTSTAMP:20200301T020215
CREATED:20191101T061912Z
LAST-MODIFIED:20200214T042121Z
UID:7420-1593343800-1593360300@giostadiumcanberra.com.au
SUMMARY:NRL 2020 - Raiders V Roosters
DESCRIPTION:For the first time since 2016\, the Canberra Raiders will begin a campaign at home when they host the Gold Coast Titans at GIO Stadium. \nRaiders fans will enjoy plenty of football in the opening rounds\, with four home games in five weeks. \n
URL:https://giostadiumcanberra.com.au/gio-stadium-event/nrl-2020-rd-15/
LOCATION:GIO Canberra Stadium\, Battye Street\, Bruce\, ACT\, 2617\, Australia
CATEGORIES:Feature Events,Rugby League,Special Events,Sporting Events
ATTACH;FMTTYPE=image/png:https://giostadiumcanberra.com.au/wp-content/uploads/2017/01/raiders.png
END:VEVENT
BEGIN:VEVENT
DTSTART;TZID="Australia/Sydney":20200711T150000
DTEND;TZID="Australia/Sydney":20200711T173000
DTSTAMP:20200301T020215
CREATED:20191101T062159Z
LAST-MODIFIED:20200214T042519Z
UID:7422-1594479600-1594488600@giostadiumcanberra.com.au
SUMMARY:NRL 2020 - Raiders V Broncos
DESCRIPTION:For the first time since 2016\, the Canberra Raiders will begin a campaign at home when they host the Gold Coast Titans at GIO Stadium. \nRaiders fans will enjoy plenty of football in the opening rounds\, with four home games in five weeks. \n
URL:https://giostadiumcanberra.com.au/gio-stadium-event/nrl-2020-rd-17/
LOCATION:GIO Canberra Stadium\, Battye Street\, Bruce\, ACT\, 2617\, Australia
CATEGORIES:Feature Events,Rugby League,Special Events,Sporting Events
ATTACH;FMTTYPE=image/png:https://giostadiumcanberra.com.au/wp-content/uploads/2017/01/raiders.png
END:VEVENT
BEGIN:VEVENT
DTSTART;TZID="Australia/Sydney":20200718T150000
DTEND;TZID="Australia/Sydney":20200718T173000
DTSTAMP:20200301T020215
CREATED:20191101T062449Z
LAST-MODIFIED:20200214T042900Z
UID:7425-1595084400-1595093400@giostadiumcanberra.com.au
SUMMARY:NRL 2020 - Raiders V Eels
DESCRIPTION:For the first time since 2016\, the Canberra Raiders will begin a campaign at home when they host the Gold Coast Titans at GIO Stadium. \nRaiders fans will enjoy plenty of football in the opening rounds\, with four home games in five weeks. \n
URL:https://giostadiumcanberra.com.au/gio-stadium-event/nrl-2020-rd-18/
LOCATION:GIO Canberra Stadium\, Battye Street\, Bruce\, ACT\, 2617\, Australia
CATEGORIES:Feature Events,Rugby League,Special Events,Sporting Events
ATTACH;FMTTYPE=image/png:https://giostadiumcanberra.com.au/wp-content/uploads/2017/01/raiders.png
END:VEVENT
BEGIN:VEVENT
DTSTART;TZID="Australia/Sydney":20200816T113000
DTEND;TZID="Australia/Sydney":20200816T160500
DTSTAMP:20200301T020215
CREATED:20191101T062644Z
LAST-MODIFIED:20200214T043202Z
UID:7426-1597577400-1597593900@giostadiumcanberra.com.au
SUMMARY:NRL 2020 - Raiders V Tigers
DESCRIPTION:For the first time since 2016\, the Canberra Raiders will begin a campaign at home when they host the Gold Coast Titans at GIO Stadium. \nRaiders fans will enjoy plenty of football in the opening rounds\, with four home games in five weeks. \n
URL:https://giostadiumcanberra.com.au/gio-stadium-event/nrl-2020-rd-22/
LOCATION:GIO Canberra Stadium\, Battye Street\, Bruce\, ACT\, 2617\, Australia
CATEGORIES:Feature Events,Rugby League,Special Events,Sporting Events
ATTACH;FMTTYPE=image/png:https://giostadiumcanberra.com.au/wp-content/uploads/2017/01/raiders.png
END:VEVENT
BEGIN:VEVENT
DTSTART;TZID="Australia/Sydney":20200905T172000
DTEND;TZID="Australia/Sydney":20200905T193500
DTSTAMP:20200301T020215
CREATED:20191101T062838Z
LAST-MODIFIED:20200227T063245Z
UID:7431-1599326400-1599334500@giostadiumcanberra.com.au
SUMMARY:NRL 2020 - Raiders V Storm
DESCRIPTION:For the first time since 2016\, the Canberra Raiders will begin a campaign at home when they host the Gold Coast Titans at GIO Stadium. \nRaiders fans will enjoy plenty of football in the opening rounds\, with four home games in five weeks. \n  \n
URL:https://giostadiumcanberra.com.au/gio-stadium-event/nrl-2020-rd-25/
LOCATION:GIO Canberra Stadium\, Battye Street\, Bruce\, ACT\, 2617\, Australia
CATEGORIES:Feature Events,Rugby League,Special Events,Sporting Events
ATTACH;FMTTYPE=image/png:https://giostadiumcanberra.com.au/wp-content/uploads/2017/01/raiders.png
END:VEVENT
END:VCALENDAR