BEGIN:VCALENDAR
VERSION:2.0
PRODID:-//GIO Stadium Canberra - ECPv5.1.4//NONSGML v1.0//EN
CALSCALE:GREGORIAN
METHOD:PUBLISH
X-WR-CALNAME:GIO Stadium Canberra
X-ORIGINAL-URL:https://giostadiumcanberra.com.au
X-WR-CALDESC:Events for GIO Stadium Canberra
BEGIN:VTIMEZONE
TZID:Australia/Sydney
BEGIN:STANDARD
TZOFFSETFROM:+1100
TZOFFSETTO:+1000
TZNAME:AEST
DTSTART:20210403T160000
END:STANDARD
BEGIN:DAYLIGHT
TZOFFSETFROM:+1000
TZOFFSETTO:+1100
TZNAME:AEDT
DTSTART:20211002T160000
END:DAYLIGHT
END:VTIMEZONE
BEGIN:VEVENT
DTSTART;TZID=Australia/Sydney:20210227T183000
DTEND;TZID=Australia/Sydney:20210227T194500
DTSTAMP:20210224T065701
CREATED:20201112T030832Z
LAST-MODIFIED:20210222T030606Z
UID:8379-1614450600-1614455100@giostadiumcanberra.com.au
SUMMARY:Super Rugby AU 2021 - Brumbies v Waratahs
DESCRIPTION:The 2020 Super Rugby AU champions play against the NSW Waratahs at the first home game of the 2021 season. \nTickets: Purchase from Ticketek. Online ticket sales end at the start of half-time. No tickets are available from the box office at the venue.\nFree Game Day Bus: see Public Transport\nParking: Available in stadium parking areas. $10 cash payment. Early bird is $5 cash\, within 45 minutes of gates opening.\nGates Open: 6:30pm\nKick Off: 7:45pm \nFood and beverage menu available to the public. \nEntry conditions have changed at the stadium due to the COVID-19 pandemic\, please review our Temporary Conditions of Entry before entering the stadium. \n
URL:https://giostadiumcanberra.com.au/gio-stadium-event/super-rugby-au-2021-waratahs/
LOCATION:GIO Canberra Stadium\, Battye Street\, Bruce\, ACT\, 2617\, Australia
CATEGORIES:Rugby Union,Sporting Events
ATTACH;FMTTYPE=image/png:https://giostadiumcanberra.com.au/wp-content/uploads/2017/01/brumbies.png
GEO:-35.2459883;149.0957407
X-APPLE-STRUCTURED-LOCATION;VALUE=URI;X-ADDRESS=GIO Canberra Stadium Battye Street Bruce ACT 2617 Australia;X-APPLE-RADIUS=500;X-TITLE=Battye Street:geo:149.0957407,-35.2459883
END:VEVENT
BEGIN:VEVENT
DTSTART;TZID=Australia/Sydney:20210306T184500
DTEND;TZID=Australia/Sydney:20210306T194500
DTSTAMP:20210224T065701
CREATED:20201112T031325Z
LAST-MODIFIED:20210223T054408Z
UID:8385-1615056300-1615059900@giostadiumcanberra.com.au
SUMMARY:Super Rugby AU 2021 - Brumbies v Rebels
DESCRIPTION:The 2020 Super Rugby AU champions play against the Melbourne Rebels. \nTickets: Purchase from Ticketek\nGates Open: 6:45pm\nKick Off: 7:45pm \nEntry conditions have changed at the stadium due to the COVID-19 pandemic\, please review our Temporary Conditions of Entry before entering the stadium. \n
URL:https://giostadiumcanberra.com.au/gio-stadium-event/super-rugby-au-2021-rebels/
LOCATION:GIO Canberra Stadium\, Battye Street\, Bruce\, ACT\, 2617\, Australia
CATEGORIES:Rugby Union,Sporting Events
ATTACH;FMTTYPE=image/png:https://giostadiumcanberra.com.au/wp-content/uploads/2017/01/brumbies.png
GEO:-35.2459883;149.0957407
X-APPLE-STRUCTURED-LOCATION;VALUE=URI;X-ADDRESS=GIO Canberra Stadium Battye Street Bruce ACT 2617 Australia;X-APPLE-RADIUS=500;X-TITLE=Battye Street:geo:149.0957407,-35.2459883
END:VEVENT
BEGIN:VEVENT
DTSTART;TZID=Australia/Sydney:20210313T184500
DTEND;TZID=Australia/Sydney:20210313T194500
DTSTAMP:20210224T065701
CREATED:20201112T031007Z
LAST-MODIFIED:20210211T001340Z
UID:8381-1615661100-1615664700@giostadiumcanberra.com.au
SUMMARY:Super Rugby AU 2021 - Brumbies v Reds
DESCRIPTION:The 2020 Super Rugby AU champions play against the Queensland Reds. \nTickets: Purchase from Ticketek\nGates Open: 6:45pm\nKick Off: 7:45pm \nEntry conditions have changed at the stadium due to the COVID-19 pandemic\, please review our Temporary Conditions of Entry before entering the stadium. \n
URL:https://giostadiumcanberra.com.au/gio-stadium-event/super-rugby-au-2021-reds/
LOCATION:GIO Canberra Stadium\, Battye Street\, Bruce\, ACT\, 2617\, Australia
CATEGORIES:Rugby Union,Sporting Events
ATTACH;FMTTYPE=image/png:https://giostadiumcanberra.com.au/wp-content/uploads/2017/01/brumbies.png
GEO:-35.2459883;149.0957407
X-APPLE-STRUCTURED-LOCATION;VALUE=URI;X-ADDRESS=GIO Canberra Stadium Battye Street Bruce ACT 2617 Australia;X-APPLE-RADIUS=500;X-TITLE=Battye Street:geo:149.0957407,-35.2459883
END:VEVENT
BEGIN:VEVENT
DTSTART;VALUE=DATE:20210314
DTEND;VALUE=DATE:20210315
DTSTAMP:20210224T065701
CREATED:20201126T003831Z
LAST-MODIFIED:20201126T012227Z
UID:8393-1615680000-1615766399@giostadiumcanberra.com.au
SUMMARY:NRL 2021 - Raiders v Tigers
DESCRIPTION:Match day tickets\, gate open time and conditions of entry to be confirmed. \n  \n
URL:https://giostadiumcanberra.com.au/gio-stadium-event/nrl-2021-rd-1/
LOCATION:GIO Canberra Stadium\, Battye Street\, Bruce\, ACT\, 2617\, Australia
CATEGORIES:Feature Events,Rugby League,Special Events,Sporting Events
ATTACH;FMTTYPE=image/png:https://giostadiumcanberra.com.au/wp-content/uploads/2017/01/raiders.png
GEO:-35.2459883;149.0957407
X-APPLE-STRUCTURED-LOCATION;VALUE=URI;X-ADDRESS=GIO Canberra Stadium Battye Street Bruce ACT 2617 Australia;X-APPLE-RADIUS=500;X-TITLE=Battye Street:geo:149.0957407,-35.2459883
END:VEVENT
BEGIN:VEVENT
DTSTART;TZID=Australia/Sydney:20210326T184500
DTEND;TZID=Australia/Sydney:20210326T194500
DTSTAMP:20210224T065701
CREATED:20201112T031200Z
LAST-MODIFIED:20210211T001631Z
UID:8383-1616784300-1616787900@giostadiumcanberra.com.au
SUMMARY:Super Rugby AU 2021 - Brumbies v Western Force
DESCRIPTION:The 2020 Super Rugby AU champions play against the Western Force. \nTickets: Purchase from Ticketek\nGates Open: 6:45pm\nKick Off: 7:45pm \nEntry conditions have changed at the stadium due to the COVID-19 pandemic\, please review our Temporary Conditions of Entry before entering the stadium. \n
URL:https://giostadiumcanberra.com.au/gio-stadium-event/super-rugby-au-2021-westernforce/
LOCATION:GIO Canberra Stadium\, Battye Street\, Bruce\, ACT\, 2617\, Australia
CATEGORIES:Rugby Union,Sporting Events
ATTACH;FMTTYPE=image/png:https://giostadiumcanberra.com.au/wp-content/uploads/2017/01/brumbies.png
GEO:-35.2459883;149.0957407
X-APPLE-STRUCTURED-LOCATION;VALUE=URI;X-ADDRESS=GIO Canberra Stadium Battye Street Bruce ACT 2617 Australia;X-APPLE-RADIUS=500;X-TITLE=Battye Street:geo:149.0957407,-35.2459883
END:VEVENT
BEGIN:VEVENT
DTSTART;VALUE=DATE:20210327
DTEND;VALUE=DATE:20210328
DTSTAMP:20210224T065701
CREATED:20201126T004055Z
LAST-MODIFIED:20201126T012155Z
UID:8395-1616803200-1616889599@giostadiumcanberra.com.au
SUMMARY:NRL 2021 - Raiders v Warriors
DESCRIPTION:Match day tickets\, gate open time and conditions of entry to be confirmed. \n  \n
URL:https://giostadiumcanberra.com.au/gio-stadium-event/nrl-2021-rd-3/
LOCATION:GIO Canberra Stadium\, Battye Street\, Bruce\, ACT\, 2617\, Australia
CATEGORIES:Feature Events,Rugby League,Special Events,Sporting Events
ATTACH;FMTTYPE=image/png:https://giostadiumcanberra.com.au/wp-content/uploads/2017/01/raiders.png
GEO:-35.2459883;149.0957407
X-APPLE-STRUCTURED-LOCATION;VALUE=URI;X-ADDRESS=GIO Canberra Stadium Battye Street Bruce ACT 2617 Australia;X-APPLE-RADIUS=500;X-TITLE=Battye Street:geo:149.0957407,-35.2459883
END:VEVENT
BEGIN:VEVENT
DTSTART;VALUE=DATE:20210417
DTEND;VALUE=DATE:20210418
DTSTAMP:20210224T065701
CREATED:20201126T004235Z
LAST-MODIFIED:20201126T012300Z
UID:8397-1618617600-1618703999@giostadiumcanberra.com.au
SUMMARY:NRL 2021 - Raiders v Eels
DESCRIPTION:Match day tickets\, gate open time and conditions of entry to be confirmed. \n  \n
URL:https://giostadiumcanberra.com.au/gio-stadium-event/nrl-2021-rd-6/
LOCATION:GIO Canberra Stadium\, Battye Street\, Bruce\, ACT\, 2617\, Australia
CATEGORIES:Feature Events,Rugby League,Special Events,Sporting Events
ATTACH;FMTTYPE=image/png:https://giostadiumcanberra.com.au/wp-content/uploads/2017/01/raiders.png
GEO:-35.2459883;149.0957407
X-APPLE-STRUCTURED-LOCATION;VALUE=URI;X-ADDRESS=GIO Canberra Stadium Battye Street Bruce ACT 2617 Australia;X-APPLE-RADIUS=500;X-TITLE=Battye Street:geo:149.0957407,-35.2459883
END:VEVENT
BEGIN:VEVENT
DTSTART;VALUE=DATE:20210429
DTEND;VALUE=DATE:20210430
DTSTAMP:20210224T065701
CREATED:20201126T004759Z
LAST-MODIFIED:20201126T012310Z
UID:8399-1619654400-1619740799@giostadiumcanberra.com.au
SUMMARY:NRL 2021 - Raiders v Rabbitohs
DESCRIPTION:Match day tickets\, gate open time and conditions of entry to be confirmed. \n  \n
URL:https://giostadiumcanberra.com.au/gio-stadium-event/nrl-2021-rd-8/
LOCATION:GIO Canberra Stadium\, Battye Street\, Bruce\, ACT\, 2617\, Australia
CATEGORIES:Feature Events,Rugby League,Special Events,Sporting Events
ATTACH;FMTTYPE=image/png:https://giostadiumcanberra.com.au/wp-content/uploads/2017/01/raiders.png
GEO:-35.2459883;149.0957407
X-APPLE-STRUCTURED-LOCATION;VALUE=URI;X-ADDRESS=GIO Canberra Stadium Battye Street Bruce ACT 2617 Australia;X-APPLE-RADIUS=500;X-TITLE=Battye Street:geo:149.0957407,-35.2459883
END:VEVENT
BEGIN:VEVENT
DTSTART;VALUE=DATE:20210522
DTEND;VALUE=DATE:20210523
DTSTAMP:20210224T065701
CREATED:20201126T005001Z
LAST-MODIFIED:20201126T012320Z
UID:8401-1621641600-1621727999@giostadiumcanberra.com.au
SUMMARY:NRL 2021 - Raiders v Storm
DESCRIPTION:Match day tickets\, gate open time and conditions of entry to be confirmed. \n  \n
URL:https://giostadiumcanberra.com.au/gio-stadium-event/nrl-2021-rd-11/
LOCATION:GIO Canberra Stadium\, Battye Street\, Bruce\, ACT\, 2617\, Australia
CATEGORIES:Feature Events,Rugby League,Special Events,Sporting Events
ATTACH;FMTTYPE=image/png:https://giostadiumcanberra.com.au/wp-content/uploads/2017/01/raiders.png
GEO:-35.2459883;149.0957407
X-APPLE-STRUCTURED-LOCATION;VALUE=URI;X-ADDRESS=GIO Canberra Stadium Battye Street Bruce ACT 2617 Australia;X-APPLE-RADIUS=500;X-TITLE=Battye Street:geo:149.0957407,-35.2459883
END:VEVENT
BEGIN:VEVENT
DTSTART;VALUE=DATE:20210605
DTEND;VALUE=DATE:20210606
DTSTAMP:20210224T065701
CREATED:20201211T070234Z
LAST-MODIFIED:20201211T070234Z
UID:8430-1622851200-1622937599@giostadiumcanberra.com.au
SUMMARY:Super Rugby 2021 - Brumbies v Hurricanes
DESCRIPTION:Match day tickets\, gate open time and conditions of entry to be confirmed. \n
URL:https://giostadiumcanberra.com.au/gio-stadium-event/super-rugby-2021-hurricanes/
LOCATION:GIO Canberra Stadium\, Battye Street\, Bruce\, ACT\, 2617\, Australia
CATEGORIES:Rugby Union,Sporting Events
ATTACH;FMTTYPE=image/png:https://giostadiumcanberra.com.au/wp-content/uploads/2017/01/brumbies.png
GEO:-35.2459883;149.0957407
X-APPLE-STRUCTURED-LOCATION;VALUE=URI;X-ADDRESS=GIO Canberra Stadium Battye Street Bruce ACT 2617 Australia;X-APPLE-RADIUS=500;X-TITLE=Battye Street:geo:149.0957407,-35.2459883
END:VEVENT
BEGIN:VEVENT
DTSTART;VALUE=DATE:20210611
DTEND;VALUE=DATE:20210612
DTSTAMP:20210224T065701
CREATED:20201211T070506Z
LAST-MODIFIED:20201211T070506Z
UID:8432-1623369600-1623455999@giostadiumcanberra.com.au
SUMMARY:Super Rugby 2021 - Brumbies v Highlanders
DESCRIPTION:Match day tickets\, gate open time and conditions of entry to be confirmed. \n
URL:https://giostadiumcanberra.com.au/gio-stadium-event/super-rugby-2021-highlanders/
LOCATION:GIO Canberra Stadium\, Battye Street\, Bruce\, ACT\, 2617\, Australia
CATEGORIES:Rugby Union,Sporting Events
ATTACH;FMTTYPE=image/png:https://giostadiumcanberra.com.au/wp-content/uploads/2017/01/brumbies.png
GEO:-35.2459883;149.0957407
X-APPLE-STRUCTURED-LOCATION;VALUE=URI;X-ADDRESS=GIO Canberra Stadium Battye Street Bruce ACT 2617 Australia;X-APPLE-RADIUS=500;X-TITLE=Battye Street:geo:149.0957407,-35.2459883
END:VEVENT
BEGIN:VEVENT
DTSTART;VALUE=DATE:20210612
DTEND;VALUE=DATE:20210613
DTSTAMP:20210224T065701
CREATED:20201126T011420Z
LAST-MODIFIED:20201126T012330Z
UID:8403-1623456000-1623542399@giostadiumcanberra.com.au
SUMMARY:NRL 2021 - Raiders v Broncos
DESCRIPTION:Match day tickets\, gate open time and conditions of entry to be confirmed. \n  \n
URL:https://giostadiumcanberra.com.au/gio-stadium-event/nrl-2021-rd-14/
LOCATION:GIO Canberra Stadium\, Battye Street\, Bruce\, ACT\, 2617\, Australia
CATEGORIES:Feature Events,Rugby League,Special Events,Sporting Events
ATTACH;FMTTYPE=image/png:https://giostadiumcanberra.com.au/wp-content/uploads/2017/01/raiders.png
GEO:-35.2459883;149.0957407
X-APPLE-STRUCTURED-LOCATION;VALUE=URI;X-ADDRESS=GIO Canberra Stadium Battye Street Bruce ACT 2617 Australia;X-APPLE-RADIUS=500;X-TITLE=Battye Street:geo:149.0957407,-35.2459883
END:VEVENT
BEGIN:VEVENT
DTSTART;VALUE=DATE:20210703
DTEND;VALUE=DATE:20210704
DTSTAMP:20210224T065701
CREATED:20201126T011546Z
LAST-MODIFIED:20201126T012342Z
UID:8405-1625270400-1625356799@giostadiumcanberra.com.au
SUMMARY:NRL 2021 - Raiders v Titans
DESCRIPTION:Match day tickets\, gate open time and conditions of entry to be confirmed. \n  \n
URL:https://giostadiumcanberra.com.au/gio-stadium-event/nrl-2021-rd-16/
LOCATION:GIO Canberra Stadium\, Battye Street\, Bruce\, ACT\, 2617\, Australia
CATEGORIES:Feature Events,Rugby League,Special Events,Sporting Events
ATTACH;FMTTYPE=image/png:https://giostadiumcanberra.com.au/wp-content/uploads/2017/01/raiders.png
GEO:-35.2459883;149.0957407
X-APPLE-STRUCTURED-LOCATION;VALUE=URI;X-ADDRESS=GIO Canberra Stadium Battye Street Bruce ACT 2617 Australia;X-APPLE-RADIUS=500;X-TITLE=Battye Street:geo:149.0957407,-35.2459883
END:VEVENT
BEGIN:VEVENT
DTSTART;VALUE=DATE:20210717
DTEND;VALUE=DATE:20210718
DTSTAMP:20210224T065701
CREATED:20201126T011719Z
LAST-MODIFIED:20201126T012351Z
UID:8407-1626480000-1626566399@giostadiumcanberra.com.au
SUMMARY:NRL 2021 - Raiders v Sharks
DESCRIPTION:Match day tickets\, gate open time and conditions of entry to be confirmed. \n  \n
URL:https://giostadiumcanberra.com.au/gio-stadium-event/nrl-2021-rd-18/
LOCATION:GIO Canberra Stadium\, Battye Street\, Bruce\, ACT\, 2617\, Australia
CATEGORIES:Feature Events,Rugby League,Special Events,Sporting Events
ATTACH;FMTTYPE=image/png:https://giostadiumcanberra.com.au/wp-content/uploads/2017/01/raiders.png
GEO:-35.2459883;149.0957407
X-APPLE-STRUCTURED-LOCATION;VALUE=URI;X-ADDRESS=GIO Canberra Stadium Battye Street Bruce ACT 2617 Australia;X-APPLE-RADIUS=500;X-TITLE=Battye Street:geo:149.0957407,-35.2459883
END:VEVENT
BEGIN:VEVENT
DTSTART;VALUE=DATE:20210806
DTEND;VALUE=DATE:20210807
DTSTAMP:20210224T065701
CREATED:20201126T011840Z
LAST-MODIFIED:20201126T012402Z
UID:8409-1628208000-1628294399@giostadiumcanberra.com.au
SUMMARY:NRL 2021 - Raiders v Dragons
DESCRIPTION:Match day tickets\, gate open time and conditions of entry to be confirmed. \n  \n
URL:https://giostadiumcanberra.com.au/gio-stadium-event/nrl-2021-rd-21/
LOCATION:GIO Canberra Stadium\, Battye Street\, Bruce\, ACT\, 2617\, Australia
CATEGORIES:Feature Events,Rugby League,Special Events,Sporting Events
ATTACH;FMTTYPE=image/png:https://giostadiumcanberra.com.au/wp-content/uploads/2017/01/raiders.png
GEO:-35.2459883;149.0957407
X-APPLE-STRUCTURED-LOCATION;VALUE=URI;X-ADDRESS=GIO Canberra Stadium Battye Street Bruce ACT 2617 Australia;X-APPLE-RADIUS=500;X-TITLE=Battye Street:geo:149.0957407,-35.2459883
END:VEVENT
BEGIN:VEVENT
DTSTART;VALUE=DATE:20210820
DTEND;VALUE=DATE:20210821
DTSTAMP:20210224T065701
CREATED:20201126T011951Z
LAST-MODIFIED:20201126T012413Z
UID:8411-1629417600-1629503999@giostadiumcanberra.com.au
SUMMARY:NRL 2021 - Raiders v Sea Eagles
DESCRIPTION:Match day tickets\, gate open time and conditions of entry to be confirmed. \n  \n
URL:https://giostadiumcanberra.com.au/gio-stadium-event/nrl-2021-rd-23/
LOCATION:GIO Canberra Stadium\, Battye Street\, Bruce\, ACT\, 2617\, Australia
CATEGORIES:Feature Events,Rugby League,Special Events,Sporting Events
ATTACH;FMTTYPE=image/png:https://giostadiumcanberra.com.au/wp-content/uploads/2017/01/raiders.png
GEO:-35.2459883;149.0957407
X-APPLE-STRUCTURED-LOCATION;VALUE=URI;X-ADDRESS=GIO Canberra Stadium Battye Street Bruce ACT 2617 Australia;X-APPLE-RADIUS=500;X-TITLE=Battye Street:geo:149.0957407,-35.2459883
END:VEVENT
BEGIN:VEVENT
DTSTART;VALUE=DATE:20210902
DTEND;VALUE=DATE:20210903
DTSTAMP:20210224T065701
CREATED:20201126T012119Z
LAST-MODIFIED:20201126T012423Z
UID:8413-1630540800-1630627199@giostadiumcanberra.com.au
SUMMARY:NRL 2021 - Raiders v Roosters
DESCRIPTION:Match day tickets\, gate open time and conditions of entry to be confirmed. \n  \n
URL:https://giostadiumcanberra.com.au/gio-stadium-event/nrl-2021-rd-25/
LOCATION:GIO Canberra Stadium\, Battye Street\, Bruce\, ACT\, 2617\, Australia
CATEGORIES:Feature Events,Rugby League,Special Events,Sporting Events
ATTACH;FMTTYPE=image/png:https://giostadiumcanberra.com.au/wp-content/uploads/2017/01/raiders.png
GEO:-35.2459883;149.0957407
X-APPLE-STRUCTURED-LOCATION;VALUE=URI;X-ADDRESS=GIO Canberra Stadium Battye Street Bruce ACT 2617 Australia;X-APPLE-RADIUS=500;X-TITLE=Battye Street:geo:149.0957407,-35.2459883
END:VEVENT
END:VCALENDAR